BEGIN:VCALENDAR
VERSION:2.0
PRODID:-//Evergreen A&#039;s - ECPv6.15.20//NONSGML v1.0//EN
CALSCALE:GREGORIAN
METHOD:PUBLISH
X-ORIGINAL-URL:https://evergreenmodela.net
X-WR-CALDESC:Events for Evergreen A&#039;s
REFRESH-INTERVAL;VALUE=DURATION:PT1H
X-Robots-Tag:noindex
X-PUBLISHED-TTL:PT1H
BEGIN:VTIMEZONE
TZID:America/Los_Angeles
BEGIN:DAYLIGHT
TZOFFSETFROM:-0800
TZOFFSETTO:-0700
TZNAME:PDT
DTSTART:20250309T100000
END:DAYLIGHT
BEGIN:STANDARD
TZOFFSETFROM:-0700
TZOFFSETTO:-0800
TZNAME:PST
DTSTART:20251102T090000
END:STANDARD
BEGIN:DAYLIGHT
TZOFFSETFROM:-0800
TZOFFSETTO:-0700
TZNAME:PDT
DTSTART:20260308T100000
END:DAYLIGHT
BEGIN:STANDARD
TZOFFSETFROM:-0700
TZOFFSETTO:-0800
TZNAME:PST
DTSTART:20261101T090000
END:STANDARD
BEGIN:DAYLIGHT
TZOFFSETFROM:-0800
TZOFFSETTO:-0700
TZNAME:PDT
DTSTART:20270314T100000
END:DAYLIGHT
BEGIN:STANDARD
TZOFFSETFROM:-0700
TZOFFSETTO:-0800
TZNAME:PST
DTSTART:20271107T090000
END:STANDARD
END:VTIMEZONE
BEGIN:VEVENT
DTSTART;TZID=America/Los_Angeles:20260514T080000
DTEND;TZID=America/Los_Angeles:20260514T170000
DTSTAMP:20260421T043517
CREATED:20260124T181147Z
LAST-MODIFIED:20260124T182103Z
UID:1450-1778745600-1778778000@evergreenmodela.net
SUMMARY:Membership Meeting
DESCRIPTION:Please join us for our Monthly Membership Meeting! \nDinner and Social Hour:  6 PM \nMeeting Start Time:  7:00 PM \nCan’t attend in person?  Use this Zoom Link to attend virtually.
URL:https://evergreenmodela.net/event/membership-meeting-3/
CATEGORIES:Monthly Meeting
ATTACH;FMTTYPE=image/png:https://evergreenmodela.net/wp-content/uploads/2024/11/Gen-Mem-Mtg.png
END:VEVENT
BEGIN:VEVENT
DTSTART;TZID=America/Los_Angeles:20260611T080000
DTEND;TZID=America/Los_Angeles:20260611T170000
DTSTAMP:20260421T043517
CREATED:20260124T181232Z
LAST-MODIFIED:20260124T181232Z
UID:1451-1781164800-1781197200@evergreenmodela.net
SUMMARY:Membership Meeting
DESCRIPTION:Please join us for our Monthly Membership Meeting! \nDinner and Social Hour:  6 PM \nMeeting Start Time:  7:00 PM \nCan’t attend in person?  Use this Zoom Link to attend virtually.
URL:https://evergreenmodela.net/event/membership-meeting-4/
CATEGORIES:Monthly Meeting
ATTACH;FMTTYPE=image/png:https://evergreenmodela.net/wp-content/uploads/2024/11/Gen-Mem-Mtg.png
END:VEVENT
BEGIN:VEVENT
DTSTART;TZID=America/Los_Angeles:20260709T180000
DTEND;TZID=America/Los_Angeles:20260709T210000
DTSTAMP:20260421T043517
CREATED:20251230T034001Z
LAST-MODIFIED:20260124T181017Z
UID:1413-1783620000-1783630800@evergreenmodela.net
SUMMARY:Membership Meeting (If no Summer Picnic this month)
DESCRIPTION:Please join us for our Monthly Membership Meeting! \nDinner and Social Hour:  6 PM \nMeeting Start Time:  7:00 PM \nCan’t attend in person?  Use this Zoom Link to attend virtually. \n  \n  \n 
URL:https://evergreenmodela.net/event/monthly-membership-meeting-5/
CATEGORIES:Monthly Meeting
ATTACH;FMTTYPE=image/png:https://evergreenmodela.net/wp-content/uploads/2024/11/Gen-Mem-Mtg.png
ORGANIZER;CN="Frank Read":MAILTO:frankread31@gmail.com
END:VEVENT
BEGIN:VEVENT
DTSTART;TZID=America/Los_Angeles:20260813T080000
DTEND;TZID=America/Los_Angeles:20260813T170000
DTSTAMP:20260421T043517
CREATED:20260124T181355Z
LAST-MODIFIED:20260124T182257Z
UID:1452-1786608000-1786640400@evergreenmodela.net
SUMMARY:Membership Meeting (If No BBQ this month)
DESCRIPTION:Please join us for our Monthly Membership Meeting! \nDinner and Social Hour:  6 PM \nMeeting Start Time:  7:00 PM \nCan’t attend in person?  Use this Zoom Link to attend virtually.
URL:https://evergreenmodela.net/event/membership-meeting-if-no-bbq-this-month/
CATEGORIES:Monthly Meeting
ATTACH;FMTTYPE=image/png:https://evergreenmodela.net/wp-content/uploads/2024/11/Gen-Mem-Mtg.png
END:VEVENT
BEGIN:VEVENT
DTSTART;TZID=America/Los_Angeles:20260902T080000
DTEND;TZID=America/Los_Angeles:20260902T170000
DTSTAMP:20260421T043517
CREATED:20260124T183038Z
LAST-MODIFIED:20260124T183038Z
UID:1461-1788336000-1788368400@evergreenmodela.net
SUMMARY:Board Meeting
DESCRIPTION:Monthly Meeting of the Evergreen Board of Directors!  Held via Zoom. \nPlease contact Frank Read if you have any questions or would like to attend.
URL:https://evergreenmodela.net/event/board-meeting-7/
CATEGORIES:Monthly Meeting
ATTACH;FMTTYPE=image/png:https://evergreenmodela.net/wp-content/uploads/2024/11/board-meeting-clipart-15.png
END:VEVENT
BEGIN:VEVENT
DTSTART;TZID=America/Los_Angeles:20260910T080000
DTEND;TZID=America/Los_Angeles:20260910T170000
DTSTAMP:20260421T043517
CREATED:20260124T181509Z
LAST-MODIFIED:20260124T181509Z
UID:1453-1789027200-1789059600@evergreenmodela.net
SUMMARY:Membership Meeting
DESCRIPTION:Please join us for our Monthly Membership Meeting! \nDinner and Social Hour:  6 PM \nMeeting Start Time:  7:00 PM \nCan’t attend in person?  Use this Zoom Link to attend virtually.
URL:https://evergreenmodela.net/event/membership-meeting-5/
CATEGORIES:Monthly Meeting
ATTACH;FMTTYPE=image/png:https://evergreenmodela.net/wp-content/uploads/2024/11/Gen-Mem-Mtg.png
END:VEVENT
BEGIN:VEVENT
DTSTART;TZID=America/Los_Angeles:20261008T080000
DTEND;TZID=America/Los_Angeles:20261008T170000
DTSTAMP:20260421T043517
CREATED:20260124T181813Z
LAST-MODIFIED:20260124T182404Z
UID:1454-1791446400-1791478800@evergreenmodela.net
SUMMARY:Membership Meeting
DESCRIPTION:Please join us for our Monthly Membership Meeting! \nDinner and Social Hour:  6 PM \nMeeting Start Time:  7:00 PM \nCan’t attend in person?  Use this Zoom Link to attend virtually.
URL:https://evergreenmodela.net/event/membership-meeting-6/
CATEGORIES:Monthly Meeting
ATTACH;FMTTYPE=image/png:https://evergreenmodela.net/wp-content/uploads/2024/11/Gen-Mem-Mtg.png
END:VEVENT
BEGIN:VEVENT
DTSTART;TZID=America/Los_Angeles:20261112T080000
DTEND;TZID=America/Los_Angeles:20261112T170000
DTSTAMP:20260421T043517
CREATED:20260124T181859Z
LAST-MODIFIED:20260124T181859Z
UID:1455-1794470400-1794502800@evergreenmodela.net
SUMMARY:Membership Meeting (Elections)
DESCRIPTION:Please join us for our Monthly Membership Meeting! \nDinner and Social Hour:  6 PM \nMeeting Start Time:  7:00 PM \nCan’t attend in person?  Use this Zoom Link to attend virtually.
URL:https://evergreenmodela.net/event/membership-meeting-elections/
CATEGORIES:Monthly Meeting
ATTACH;FMTTYPE=image/png:https://evergreenmodela.net/wp-content/uploads/2024/11/Gen-Mem-Mtg.png
END:VEVENT
END:VCALENDAR